BEGIN:VCALENDAR
VERSION:2.0
PRODID:-//ChamberMaster//Event Calendar 2.0//EN
METHOD:PUBLISH
X-PUBLISHED-TTL:P3D
REFRESH-INTERVAL:P3D
CALSCALE:GREGORIAN
BEGIN:VEVENT
DTSTART:20260509T160000Z
DTEND:20260509T210000Z
X-MICROSOFT-CDO-ALLDAYEVENT:FALSE
SUMMARY:2026 WSU Whatcom County Master Gardener Hovander Plant Sale
DESCRIPTION:Our main sale! This sale has it all- perennials\, trees\, shrubs\, vegetables\, tools\, gifts and more! Cash\, card\, or check. La m s grande de nuestrats ventas. La tiene todo- plantas perennes\,  rboles\, arbustos\, vegetales\, herramientas\, regalos y m s! Efectivo\, tarjeta\, o cheque.
X-ALT-DESC;FMTTYPE=text/html:Our main sale! This sale has it all- perennials\, trees\, shrubs\, vegetables\, tools\, gifts and more! Cash\, card\, or check. La m&aacute\;s grande de nuestrats ventas. La tiene todo- plantas perennes\, &aacute\;rboles\, arbustos\, vegetales\, herramientas\, regalos y m&aacute\;s! Efectivo\, tarjeta\, o cheque.
LOCATION:Hovander Homestead Park 5299 Nielsen Rd Ferndale\, WA 98248
UID:e.2362.11258
SEQUENCE:3
DTSTAMP:20260423T081932Z
URL:https://business.ferndalewachamber.com/events/details/2026-wsu-whatcom-county-master-gardener-hovander-plant-sale-11258
END:VEVENT

END:VCALENDAR
