BEGIN:VCALENDAR
VERSION:2.0
PRODID:-//ChamberMaster//Event Calendar 2.0//EN
METHOD:PUBLISH
X-PUBLISHED-TTL:P3D
REFRESH-INTERVAL:P3D
CALSCALE:GREGORIAN
BEGIN:VEVENT
DTSTART:20260508T010000Z
DTEND:20260508T023000Z
X-MICROSOFT-CDO-ALLDAYEVENT:FALSE
SUMMARY:Craig Romano Presents: Urban Trails Vancouver\, B. C.
DESCRIPTION:Come run\, hike\, and walk the amazing array of trails within the Metro Vancouver Regional District with award-winning guidebook author\, Craig Romano. Drawing from his new release\, Urban Trails Vancouver\, BC\, Craig will be highlighting trails in one of the world's most beautiful and dynamic cities. Urban Trails Vancouver BC spotlights 55 destinations from downtown Vancouver to Bowen Island the North Shore Mountains   and the Fraser River Delta. Discover trails in Richmond\, Surrey\, Langley and Burnaby. Hike\, run\, and walk these trails while also learning about the area's rich natural\, ethnic and cultural history. Urban Trails Vancouver BC offers trail and travel insight for residents and visitors alike   including border crossing and public transportation information. Craig Romano is a prolific outdoors writer\, having authored more than 25 books. He has hiked more than 35\,000 miles in Washington State alone and is an avid ultra-runner\, having completed the challenging Cuyamaca 100K Adventure Run and White River 50-mile run. Visit him at CraigRomano.com\, on Facebook at "Craig Romano Guidebook Author\," and on Instagram at craig.romano. Copies of Craig's books will be available for purchase at the program.
X-ALT-DESC;FMTTYPE=text/html:Come run\, hike\, and walk the amazing array of trails within the Metro Vancouver Regional District with award-winning guidebook author\, Craig Romano. Drawing from his new release\, Urban Trails Vancouver\, BC\, Craig will be highlighting trails in one of the world&rsquo\;s most beautiful and dynamic cities. Urban Trails Vancouver BC spotlights 55 destinations from downtown Vancouver to Bowen Island&mdash\;the North Shore Mountains &mdash\; and the Fraser River Delta. Discover trails in Richmond\, Surrey\, Langley and Burnaby. Hike\, run\, and walk these trails while also learning about the area&rsquo\;s rich natural\, ethnic and cultural history. Urban Trails Vancouver BC offers trail and travel insight for residents and visitors alike &mdash\; including border crossing and public transportation information. Craig Romano is a prolific outdoors writer\, having authored more than 25 books. He has hiked more than 35\,000 miles in Washington State alone and is an avid ultra-runner\, having completed the challenging Cuyamaca 100K Adventure Run and White River 50-mile run. Visit him at CraigRomano.com\, on Facebook at &ldquo\;Craig Romano Guidebook Author\,&rdquo\; and on Instagram at craig.romano. Copies of Craig&#39\;s books will be available for purchase at the program.
LOCATION:Ferndale Library
UID:e.2362.11300
SEQUENCE:3
DTSTAMP:20260423T014039Z
URL:https://business.ferndalewachamber.com/events/details/craig-romano-presents-urban-trails-vancouver-b-c-11300
END:VEVENT

END:VCALENDAR
