BEGIN:VCALENDAR
VERSION:2.0
PRODID:-//ChamberMaster//Event Calendar 2.0//EN
METHOD:PUBLISH
X-PUBLISHED-TTL:P3D
REFRESH-INTERVAL:P3D
CALSCALE:GREGORIAN
BEGIN:VEVENT
DTSTART:20260505T183000Z
DTEND:20260505T200000Z
X-MICROSOFT-CDO-ALLDAYEVENT:FALSE
SUMMARY:Digital Literacy 101: Using the Internet with Confidence
DESCRIPTION:Learn how to surf the internet like a pro! This lesson includes tips on how to safely and effectively browse\, search\, and navigate the internet. We recommend registering for all ten classes in the series\, but patrons may join for any or all classes during the ten-week period. Registration can be done online or with a library assistant over the phone or in person. This class is for adults only 18 years old or older. Bring your own device. Laptops are available if needed. Classes are delivered in English with the support of a Spanish application as needed. Tech 101 is offered in partnership with Evergreen Goodwill\, the Whatcom Literacy Council and the Whatcom County Library System.
X-ALT-DESC;FMTTYPE=text/html:Learn how to surf the internet like a pro! This lesson includes tips on how to safely and effectively browse\, search\, and navigate the internet. We recommend registering for all ten classes in the series\, but patrons may join for any or all classes during the ten-week period. Registration can be done online or with a library assistant over the phone or in person. This class is for adults only 18 years old or older. Bring your own device. Laptops are available if needed. Classes are delivered in English with the support of a Spanish application as needed. Tech 101 is offered in partnership with Evergreen Goodwill\, the Whatcom Literacy Council and the Whatcom County Library System.
LOCATION:Ferndale Small Meeting Room at the Ferndale Library\, 2125 Main Street Ferndale\, WA 98248
UID:e.2362.11293
SEQUENCE:3
DTSTAMP:20260423T013708Z
URL:https://business.ferndalewachamber.com/events/details/digital-literacy-101-using-the-internet-with-confidence-11293
END:VEVENT

END:VCALENDAR
